BEGIN:VCALENDAR
VERSION:2.0
PRODID:-//Library Market//iCal Export//EN
BEGIN:VEVENT
SUMMARY:America’s Founding Fathers: George Washington
UID:24677
DTSTAMP:20260421T153000Z
DTSTART:20260509T143000Z
DTEND:20260509T153000Z
LOCATION:Mattituck-Laurel Library, 13900 Main Rd., Mattituck, NY 11952, Un
 ited States
ROOM: Meeting Room
DESCRIPTION:Join Charlie Gueli of the Mattituck Historical Society for a m
 onthly lecture series exploring the lives and legacies of America’s Foun
 ding Fathers. This lecture will explore George Washington, examining his i
 nfluence, ideas, and enduring impact on the nation’s history. 
URL:https://www.mattitucklaurellibrary.org/index.php/event/historical-soci
 ety-history-seminar-24677
END:VEVENT
END:VCALENDAR
