BEGIN:VCALENDAR
VERSION:2.0
PRODID:-//Library Market//iCal Export//EN
BEGIN:VEVENT
SUMMARY:Tavern Tea with Margaret Johnson
UID:28389
DTSTAMP:20260421T145100Z
DTSTART:20260515T170000Z
DTEND:20260515T183000Z
LOCATION:Mattituck-Laurel Library, 13900 Main Rd., Mattituck, NY 11952, Un
 ited States
ROOM: Meeting Room
DESCRIPTION:To celebrate the nation’s 250th anniversary, join local auth
 or Margaret M. Johnson for a three-course “Tavern Tea” with a BILL OF 
 FARE that includes Savory &amp; Substantial Meats &amp; Cheese, Sweet Bisc
 uits &amp; Cakes, and Fruit Pudding. Author of fourteen cookbooks, includi
 ng Teatime in Ireland and Delicious Ireland, Johnson weaves colonial histo
 ry into an afternoon tea menu based on period foods. “Teas of the fines
 t Sorts will be serv’d, being Bohea, Hyson, and Souchong, together with 
 sundry others suitable to the TEA-TABLE.”There is a $10 nonrefundable fe
 e for this program
URL:https://www.mattitucklaurellibrary.org/index.php/event/tavern-tea-marg
 aret-johnson-28389
END:VEVENT
END:VCALENDAR
