BEGIN:VCALENDAR
VERSION:2.0
PRODID:-//Library Market//iCal Export//EN
BEGIN:VEVENT
SUMMARY:A Performance by The Day Trippers
UID:29166
DTSTAMP:20260421T182000Z
DTSTART:20260606T170000Z
DTEND:20260606T183000Z
LOCATION:Mattituck-Laurel Library, 13900 Main Rd., Mattituck, NY 11952, Un
 ited States
ROOM: Greenspace South
DESCRIPTION:Join us for a spectacular live performance by The Day Trippers
 ! Experience The Beatles&#039; greatest hits, from early classics to their
  later, more complex works. Along the way, The Day Trippers will share ins
 ights into what makes each tune special and how The Beatles&#039; sound ev
 olved over the years. Registrants are asked to bring an outdoor lawn/beac
 h chair. This concert will be held outdoors in Mattituck-Laurel Library’
 s greenspace; in the event of inclement weather, it will be moved indoors.
  Registration required. Co-Sponsored by The Friends Of The Southold Free 
 Library.
URL:https://www.mattitucklaurellibrary.org/index.php/event/performance-day
 trippers-29166
END:VEVENT
END:VCALENDAR
