BEGIN:VCALENDAR
VERSION:2.0
PRODID:-//Library Market//iCal Export//EN
BEGIN:VEVENT
SUMMARY:Men’s Fitness &amp; Exercise: Staying Strong at Every Age with D
 r. Pachter
UID:29383
DTSTAMP:20260422T081200Z
DTSTART:20260609T200000Z
DTEND:20260609T213000Z
LOCATION:Mattituck-Laurel Library, 13900 Main Rd., Mattituck, NY 11952, Un
 ited States
ROOM: Conference Room
DESCRIPTION:Celebrate Men’s Health Month with Dr. Jarid Pachter of Stony
  Brook Medicine. Join us for a lively and informative discussion on men’
 s fitness, exercise, and overall wellness. Learn why staying active is one
  of the most important things men can do for their health, with practical 
 tips on building strength, improving endurance, and maintaining energy as 
 we age.
URL:https://www.mattitucklaurellibrary.org/index.php/event/community-outre
 ach-session-sbelih-29383
END:VEVENT
END:VCALENDAR
