BEGIN:VCALENDAR
VERSION:2.0
PRODID:-//Library Market//iCal Export//EN
BEGIN:VEVENT
SUMMARY:Paint &amp; Listen
UID:30257
DTSTAMP:20260421T232700Z
DTSTART:20260623T210000Z
DTEND:20260623T223000Z
LOCATION:Mattituck-Laurel Library, 13900 Main Rd., Mattituck, NY 11952, Un
 ited States
ROOM: Meeting Room
DESCRIPTION:Guided painting instruction meets live guitar accompaniment fo
 r a relaxing, creative experience unlike any other. Create a painting of a
  lakeside sunset while listening to live music by Reprise Music. Registra
 tion required. All supplies provided. Dress for a mess!
URL:https://www.mattitucklaurellibrary.org/index.php/event/paint-and-liste
 n-30257
END:VEVENT
END:VCALENDAR
