BEGIN:VCALENDAR
VERSION:2.0
PRODID:-//Library Market//iCal Export//EN
BEGIN:VEVENT
SUMMARY:Landcraft Garden Foundation Guided Tour
UID:30382
DTSTAMP:20260422T111100Z
DTSTART:20260610T143000Z
DTEND:20260610T160000Z
LOCATION:Landcraft Gardens, United States
ROOM: Offsite Field Trip
DESCRIPTION:Experience a private guided tour of The Garden at Landcraft Ga
 rden Foundation, a four-acre botanical oasis and hidden gem of The North F
 ork. The Landcraft Garden Foundation is dedicated to promoting gardening, 
 horticulture, design, the arts, and the preservation of our natural enviro
 nment. Comfortable wear suitable for walking is suggested. Registration re
 quired.There is a $10 nonrefundable fee for this program.
URL:https://www.mattitucklaurellibrary.org/index.php/event/landcraft-guide
 d-tour-30382
END:VEVENT
END:VCALENDAR
