BEGIN:VCALENDAR
VERSION:2.0
PRODID:-//Library Market//iCal Export//EN
BEGIN:VEVENT
SUMMARY:A New York History of Baseball (via Zoom)
UID:30507
DTSTAMP:20260421T182000Z
DTSTART:20260604T223000Z
DTEND:20260604T234500Z
LOCATION:
DESCRIPTION:New York Yankee catcher Yogi Berra famously said, “Baseball 
 is ninety percent mental. The other half is physical.” From the 1800s to
  present day, New York has played a defining role in shaping baseball hist
 ory. Cover the bases of America&#039;s pastime with baseball aficionado St
 eve King, from the great players, iconic teams, legendary figures to the g
 roundbreaking innovations that emerged from New York! An East End Librari
 es Event hosted by Mattituck-Laurel Library.
URL:https://www.mattitucklaurellibrary.org/index.php/event/new-york-histor
 y-baseball-zoom-30507
END:VEVENT
END:VCALENDAR
