BEGIN:VCALENDAR
VERSION:2.0
PRODID:-//Library Market//iCal Export//EN
BEGIN:VEVENT
SUMMARY:Minecraft
UID:31041
DTSTAMP:20260422T123500Z
DTSTART:20260716T203000Z
DTEND:20260716T220000Z
LOCATION:Mattituck-Laurel Library, 13900 Main Rd., Mattituck, NY 11952, Un
 ited States
ROOM: Craft Room
DESCRIPTION:
URL:https://www.mattitucklaurellibrary.org/index.php/event/minecraft-31041
END:VEVENT
END:VCALENDAR
