BEGIN:VCALENDAR
VERSION:2.0
PRODID:-//Library Market//iCal Export//EN
BEGIN:VEVENT
SUMMARY:Talking The Bill of Rights (via Zoom)
UID:31069
DTSTAMP:20260422T081200Z
DTSTART:20260612T220000Z
DTEND:20260612T230000Z
LOCATION:
DESCRIPTION:TALKING THE BILL OF RIGHTS via Zoom. In honor of the Semiquin
 centennial, former lawyers, now librarians Mara Zonderman and Terry Lucas 
 will host a series of zooms about the history and relevance of the Bill of
  Rights and its role in the founding of the country. This is an East End 
 Programmers Association zoom.
URL:https://www.mattitucklaurellibrary.org/index.php/event/talking-bill-ri
 ghts-zoom-31069
END:VEVENT
END:VCALENDAR
