BEGIN:VCALENDAR
VERSION:2.0
PRODID:-//Library Market//iCal Export//EN
BEGIN:VEVENT
SUMMARY:Author Event: Amy Lorowitz (via Zoom)
UID:31070
DTSTAMP:20260422T081200Z
DTSTART:20260609T230000Z
DTEND:20260610T000000Z
LOCATION:
DESCRIPTION:Lori Kramer, a stay-at-home mom, would go to any length to giv
 e her two daughters the summer experience of their lives–even getting a 
 job at their camp and tagging along with them. Camp may be for kids, but L
 ori is the one having the most fun! Find out what happens when the campers
  aren&#039;t watching in The Summer Husband. An East End Libraries Event 
 hosted by Westhampton Free Library.
URL:https://www.mattitucklaurellibrary.org/index.php/event/author-event-am
 y-lorowitz-zoom-31070
END:VEVENT
END:VCALENDAR
