BEGIN:VCALENDAR
VERSION:2.0
PRODID:-//Library Market//iCal Export//EN
BEGIN:VEVENT
SUMMARY:Stonewall Then and Now (via Zoom)
UID:31071
DTSTAMP:20260422T111100Z
DTSTART:20260610T230000Z
DTEND:20260611T000000Z
LOCATION:
DESCRIPTION:The Stonewall National Monument Visitor Center (SNMVC) memoria
 lizes the legacy of the Stonewall Rebellion of 1969, which serves as a bea
 con for generations to come. This guided, interactive immersive tour of th
 e Center explores the history of the LGBTQ+ Liberation Movement and how St
 onewall&#039;s legacy advanced the fight for full LGBTQ+ equality. An Eas
 t End Libraries Event hosted by Westhampton Free Library.
URL:https://www.mattitucklaurellibrary.org/index.php/event/stonewall-then-
 and-now-zoom-31071
END:VEVENT
END:VCALENDAR
