BEGIN:VCALENDAR
VERSION:2.0
PRODID:-//Library Market//iCal Export//EN
BEGIN:VEVENT
SUMMARY:Gentle Yoga - Walk in only
UID:31140
DTSTAMP:20260421T182000Z
DTSTART:20260520T211500Z
DTEND:20260520T224500Z
LOCATION:Mattituck-Laurel Library, 13900 Main Rd., Mattituck, NY 11952, Un
 ited States
ROOM: Gentle Yoga - Walk in only
DESCRIPTION:Certified instructor Rosemary Martilotta leads this class, whi
 ch combines postural alignment, conscious breathing, deep relaxation and e
 nergy awareness. All abilities welcome. Bring a yoga mat or towel.  Walk
 -ins are $20 per class. Payments can be made online via credit card or in 
 person at the circulation desk via cash or check.   
URL:https://www.mattitucklaurellibrary.org/index.php/event/gentle-yoga-wal
 k-only-31140
END:VEVENT
END:VCALENDAR
