BEGIN:VCALENDAR
VERSION:2.0
PRODID:-//Library Market//iCal Export//EN
BEGIN:VEVENT
SUMMARY:Dinosaur State Park Day Trip - sign up by phone or in person at th
 e Cutchogue Library
UID:31149
DTSTAMP:20260422T155200Z
DTSTART:20260716T113000Z
DTEND:20260716T233000Z
LOCATION:Dinosaur State Park, 400 West St., Rocky Hill, CT 06067, United S
 tates
ROOM: Offsite Field Trip
DESCRIPTION:Sign up with your Mattituck library card at the Cutchogue Libr
 ary.  Program is for children kindergarten and up accompanied by adult.Me
 et at the King Kullen Parking lot in Cutchogue promptly at 7 a.m.The bus w
 ill leave by 7:30 a.m. for the Cross Sound Ferry in Orient.We expect to re
 turn to King Kullen by 6:30 p.m. the same day.PLEASE CALL THE CUTCHOGUE LI
 BRARY AT 631-734-6360 TO REGISTERBring a picnic lunch.  Families are resp
 onsible for purchases made on the ferry. This trip is rain or shine.  The
  Dinosaur Park has an Exhibit Center, Nature Trails and an outside Pavilio
 n for lunch.  This 200 million year old fossil track way, nature trails a
 rboretum and interactive exhibits bring the Mesozoic era to life.  The Pa
 rk features over 750 early Jurassic dinosaur footprints with one of the la
 rgest track sites in North America.This trip is provided free of charge to
  North Fork families through a grand funding from the R.K. Mellon Family F
 oundation, whose support makes it possible for us to bring literacy, learn
 ing, and enjoyment to families throughout our communities.
URL:https://www.mattitucklaurellibrary.org/index.php/event/dinosaur-state-
 park-day-trip-sign-cutchogue-library-31149
END:VEVENT
END:VCALENDAR
