BEGIN:VCALENDAR
VERSION:2.0
PRODID:-//Library Market//iCal Export//EN
BEGIN:VEVENT
SUMMARY:National Meatball Day
UID:31223
DTSTAMP:20260426T010600Z
DTSTART:20270309T210000Z
DTEND:20270309T214500Z
LOCATION:Mattituck-Laurel Library, 13900 Main Rd., Mattituck, NY 11952, Un
 ited States
ROOM: Meeting Room
DESCRIPTION:Sing along to ....On Top of Spaghetti while we make a craft to
  catch the meatball before it rolls on the floor
URL:https://www.mattitucklaurellibrary.org/index.php/event/national-meatba
 ll-day-31223
END:VEVENT
END:VCALENDAR
