BEGIN:VCALENDAR
VERSION:2.0
PRODID:-//Library Market//iCal Export//EN
BEGIN:VEVENT
SUMMARY:Cooking with Chef Rob
UID:22421
DTSTAMP:20260421T182000Z
DTSTART:20260602T213000Z
DTEND:20260602T230000Z
LOCATION:Mattituck-Laurel Library, 13900 Main Rd., Mattituck, NY 11952, Un
 ited States
ROOM: Meeting Room
DESCRIPTION:Make an All American Crustless Apple Crumb Pie ready to take h
 ome and bake! Chef Rob will also demonstrate how to make Roasted Shrimp wi
 th Ginger Scallion Dip that can be enjoyed in class. Registrants are asked
  to bring 3 large crisp apples, 2 medium bowls, a 7-inch pan, and a small 
 cutting board. There is a $10 nonrefundable fee for this program.  
URL:https://www.mattitucklaurellibrary.org/event/chef-rob-adult-program-22
 421
END:VEVENT
END:VCALENDAR
