BEGIN:VCALENDAR
VERSION:2.0
PRODID:-//Library Market//iCal Export//EN
BEGIN:VEVENT
SUMMARY:America’s Founding Fathers: John Adams
UID:24678
DTSTAMP:20260421T232700Z
DTSTART:20260620T143000Z
DTEND:20260620T153000Z
LOCATION:Mattituck-Laurel Library, 13900 Main Rd., Mattituck, NY 11952, Un
 ited States
ROOM: Conference Room
DESCRIPTION:Join Charlie Gueli of the Mattituck Historical Society for a m
 onthly lecture series exploring the lives and legacies of America’s Foun
 ding Fathers. This lecture will explore John Adams, examining his influenc
 e, ideas, and enduring impact on the nation’s history. 
URL:https://www.mattitucklaurellibrary.org/event/historical-society-histor
 y-seminar-24678
END:VEVENT
END:VCALENDAR
