BEGIN:VCALENDAR
VERSION:2.0
PRODID:-//Library Market//iCal Export//EN
BEGIN:VEVENT
SUMMARY:Ingenuity &amp; Resistance: the History of African American Foods 
 in Early New York
UID:29180
DTSTAMP:20260422T081200Z
DTSTART:20260611T210000Z
DTEND:20260611T221500Z
LOCATION:Mattituck-Laurel Library, 13900 Main Rd., Mattituck, NY 11952, Un
 ited States
ROOM: Meeting Room
DESCRIPTION:Local historian Melanie Cardone-Leathers will discuss the culi
 nary history of African Americans in the New York area. Learn the stories 
 behind these foods as well as the legacies they left behind. Participants 
 will take home recipes and a sample of a kitchen spice. Co-Sponsored by C
 utchogue New Suffolk Free Library and Southold Free Library.
URL:https://www.mattitucklaurellibrary.org/event/adult-art-program-29180
END:VEVENT
END:VCALENDAR
