BEGIN:VCALENDAR
VERSION:2.0
PRODID:-//Library Market//iCal Export//EN
BEGIN:VEVENT
SUMMARY:Boat America: Boater Safety Course
UID:29496
DTSTAMP:20260421T232700Z
DTSTART:20260620T140000Z
DTEND:20260620T180000Z
LOCATION:Mattituck-Laurel Library, 13900 Main Rd., Mattituck, NY 11952, Un
 ited States
ROOM: Meeting Room
DESCRIPTION:Boat America is a US Coast Guard Auxiliary classroom safety tr
 aining course. This course is recognized by New York State and satisfies t
 he requirement for people operating a boat or personal watercraft (PWC). 
 Patrons 11 years and older are welcome to register. All registrants must a
 ttend both sessions in order to receive a certificate of completion. Ther
 e is a $50.00 nonrefundable fee for this course.
URL:https://www.mattitucklaurellibrary.org/event/boater-safety-course-2949
 6
END:VEVENT
END:VCALENDAR
