BEGIN:VCALENDAR
VERSION:2.0
PRODID:-//Library Market//iCal Export//EN
BEGIN:VEVENT
SUMMARY:DIY: Pressed Flower Suncatchers
UID:29764
DTSTAMP:20260424T090900Z
DTSTART:20260507T203000Z
DTEND:20260507T213000Z
LOCATION:Mattituck-Laurel Library, 13900 Main Rd., Mattituck, NY 11952, Un
 ited States
ROOM: Craft Room
DESCRIPTION:In this hands-on workshop, teens will design and assemble beau
 tiful suncatchers using real pressed flowers and simple crafting materials
 . Each participant will leave with a decorative window piece to take home.
URL:https://www.mattitucklaurellibrary.org/event/diy-pressed-flower-suncat
 chers-29764
END:VEVENT
END:VCALENDAR
