BEGIN:VCALENDAR
VERSION:2.0
PRODID:-//Library Market//iCal Export//EN
BEGIN:VEVENT
SUMMARY:North Fork Flower Farm Guided Tour
UID:30568
DTSTAMP:20260421T232700Z
DTSTART:20260630T143000Z
DTEND:20260630T160000Z
LOCATION:North Fork Flower Farm, United States
ROOM: Offsite Field Trip
DESCRIPTION:Join us for a private guided tour of the beautiful North Fork 
 Flower Farm. Learn about the different types of summer blooms grown on the
  farm. Flowers available for purchase at the end of the tour. Registration
  required.Meet at the Farm: 48455 Middle Road (AKA North Rd and CR 48), So
 uthold.
URL:https://www.mattitucklaurellibrary.org/event/north-fork-flower-farm-gu
 ided-tour-30568
END:VEVENT
END:VCALENDAR
