BEGIN:VCALENDAR
VERSION:2.0
PRODID:-//Library Market//iCal Export//EN
BEGIN:VEVENT
SUMMARY:Book Discussion:  The Elements by John Boyne
UID:30588
DTSTAMP:20260421T232700Z
DTSTART:20260625T210000Z
DTEND:20260625T220000Z
LOCATION:Mattituck-Laurel Library, 13900 Main Rd., Mattituck, NY 11952, Un
 ited States
ROOM: Craft Room
DESCRIPTION:Join us for a book discussion as we explore a powerful, though
 t-provoking novel about family, identity, and the lasting impact of our ch
 oices. Together we’ll share perspectives, reflect on the story’s theme
 s, and enjoy engaging conversation with fellow readers. Please see the cir
 culation desk for a copy of the book. Pick up will be available starting M
 ay xx.
URL:https://www.mattitucklaurellibrary.org/event/book-discussion-elements-
 john-boyne-30588
END:VEVENT
END:VCALENDAR
