BEGIN:VCALENDAR
VERSION:2.0
PRODID:-//Library Market//iCal Export//EN
BEGIN:VEVENT
SUMMARY:Summer Craft: Seashell Decoupage
UID:30754
DTSTAMP:20260421T232700Z
DTSTART:20260616T213000Z
DTEND:20260616T223000Z
LOCATION:Mattituck-Laurel Library, 13900 Main Rd., Mattituck, NY 11952, Un
 ited States
ROOM: Meeting Room
DESCRIPTION:Join us for a fun, summer-themed craft! Choose from a variety 
 of patterned paper to decoupage onto a seashell. Crafters will walk away w
 ith a unique shell that can be used as a trinket dish or a decorative piec
 e. All materials provided.Registration required.
URL:https://www.mattitucklaurellibrary.org/event/summer-craft-seashell-dec
 oupage-30754
END:VEVENT
END:VCALENDAR
