BEGIN:VCALENDAR
VERSION:2.0
PRODID:-//Library Market//iCal Export//EN
BEGIN:VEVENT
SUMMARY:Horseshoe Crabs with Group For the East End (via Zoom)
UID:31066
DTSTAMP:20260421T182000Z
DTSTART:20260520T230000Z
DTEND:20260521T000000Z
LOCATION:
DESCRIPTION:The passage of the New York State legislation to regulate mana
 gement of horseshoe crabs is an important step toward halting the slide of
  these &quot;living fossils&quot; toward endangerment status. But what are
  horseshoe crabs and why are they important? Join the Group for the East E
 nd to learn more.An East End Libraries Event hosted by Westhampton Free Li
 brary. 
URL:https://www.mattitucklaurellibrary.org/event/horseshoe-crabs-group-eas
 t-end-zoom-31066
END:VEVENT
END:VCALENDAR
