BEGIN:VCALENDAR
VERSION:2.0
PRODID:-//Library Market//iCal Export//EN
BEGIN:VEVENT
SUMMARY:Ticks and Tick-Borne Disease: What You Need to Know (via Zoom)
UID:31067
DTSTAMP:20260421T182000Z
DTSTART:20260521T160000Z
DTEND:20260521T170000Z
LOCATION:
DESCRIPTION:Jerry Simons, PA-C, member of the Medical Advisory Panel of St
 ony Brook Southampton Hospital’s Regional Tick-Borne Disease Resource Ce
 nter and an Assistant Professor at Stony Brook Medicine, will speak about 
 the types of diseases that are carried by the different species of ticks f
 ound on Eastern Long Island. Symptoms, diagnostic tests, treatment options
 , and tips on preventing tick bites will also be shared. This is a Long I
 sland Library Programmers Association zoom.
URL:https://www.mattitucklaurellibrary.org/event/ticks-and-tick-borne-dise
 ase-what-you-need-know-zoom-31067
END:VEVENT
END:VCALENDAR
