BEGIN:VCALENDAR
VERSION:2.0
PRODID:-//Library Market//iCal Export//EN
BEGIN:VEVENT
SUMMARY:Tai Chi Walk-In
UID:31139
DTSTAMP:20260421T182000Z
DTSTART:20260522T150000Z
DTEND:20260522T160000Z
LOCATION:Mattituck-Laurel Library, 13900 Main Rd., Mattituck, NY 11952, Un
 ited States
ROOM: Tai Chi Walk-In
DESCRIPTION:Experience the ancient art of Tai Chi, often called “meditat
 ion in motion,” in this gentle, low-impact class series led by Alan Stew
 art. Through flowing movements and mindful breathing, participants will en
 hance balance, flexibility, and overall well-being.Patrons may register fo
 r the full series or individual classes. Register here for the walk-in cla
 ss.There is a $6 nonrefundable fee for this individual class.To register f
 or the series instead, go to &quot;Tai Chi Series&quot; on the calendar. 
URL:https://www.mattitucklaurellibrary.org/event/tai-chi-walk-31139
END:VEVENT
END:VCALENDAR
